BEGIN:VCALENDAR
VERSION:2.0
PRODID:-//wp-events-plugin.com//7.2.3.1//EN
BEGIN:VEVENT
UID:121@steyningfestival.co.uk
DTSTART;TZID=Europe/London:20260527T193000
DTEND;TZID=Europe/London:20260527T210000
DTSTAMP:20260224T140304Z
URL:https://www.steyningfestival.co.uk/events/farming/
SUMMARY:Sustainable farming is not a sacrifice\; it's an investment in a be
 tter future with Patrick Holden\, Rachel Phillips\, Tom Daniell\, Jeremy K
 erswell
DESCRIPTION:Britain's farming and food systems are arguably the greatest si
 ngle influence on the health of our climate\, nature and people. Yet for m
 ore than fifty years farming has become intensive and extractive\, with de
 vastating negative impacts. A panel of experts\, Patrick Holden\, CEO  of
  the Sustainable Food Trust\, Rachel Phillips\, CEO of the Apricot Centre\
 , and Tom Daniell\, founder of Old Tree Brewery\, Glynde\, chaired by Jere
 my Kerswell\, Principal of Plumpton College\, will explore how it might be
  possible for this to change and\, if so\, which barriers will need to be 
 overcome.\n\n 	IMPORTANT\n 	INFORMATIVE\n 	INTERESTING\n
ATTACH;FMTTYPE=image/jpeg:https://www.steyningfestival.co.uk/wp-content/up
 loads/2026/02/farming.jpg
CATEGORIES:Talk
LOCATION:Steyning Methodist Church\, 18 High Street\, Steyning\, BN44 3GG\,
  United Kingdom
X-APPLE-STRUCTURED-LOCATION;VALUE=URI;X-ADDRESS=18 High Street\, Steyning\,
  BN44 3GG\, United Kingdom;X-APPLE-RADIUS=100;X-TITLE=Steyning Methodist C
 hurch:geo:0,0
END:VEVENT
BEGIN:VTIMEZONE
TZID:Europe/London
X-LIC-LOCATION:Europe/London
BEGIN:DAYLIGHT
DTSTART:20260329T020000
TZOFFSETFROM:+0000
TZOFFSETTO:+0100
TZNAME:BST
END:DAYLIGHT
END:VTIMEZONE
END:VCALENDAR