BEGIN:VCALENDAR
VERSION:2.0
PRODID:-//wp-events-plugin.com//7.2.3.1//EN
BEGIN:VEVENT
UID:57@steyningfestival.co.uk
DTSTART;TZID=Europe/London:20260526T193000
DTEND;TZID=Europe/London:20260526T220000
DTSTAMP:20260310T100527Z
URL:https://www.steyningfestival.co.uk/events/music-of-quincy-jones-by-the
 -phoenix-big-band/
SUMMARY:Music of Quincy Jones by the Phoenix Big Band
DESCRIPTION:A swinging evening of big band music to honour the legacy of Qu
 incy Jones\, a legendary figure in the music industry as a composer\, trum
 peter\, producer and music label executive. The Phoenix Big Band is a 17-p
 iece band featuring Kelly O’Haire and Dave Harris on vocals. Based in Ar
 undel\, they draw musicians from across Sussex. Tonight they will play a m
 ix of Quincy's own compositions as well arrangements he wrote working with
  stars such as Count Basie\, Ella Fitzgerald\, Frank Sinatra and Michael J
 ackson.\n\n 	FAST\n 	FURIOUS\n 	FUN\n\nSponsored by:\n
ATTACH;FMTTYPE=image/jpeg:https://www.steyningfestival.co.uk/wp-content/up
 loads/2026/01/phoenix-big-band-e1770045875112.jpg
CATEGORIES:Music
LOCATION:Steyning Parish Church\, Church Street\, Steyning\, BN44 3YB\, 
X-APPLE-STRUCTURED-LOCATION;VALUE=URI;X-ADDRESS=Church Street\, Steyning\, 
 BN44 3YB\, ;X-APPLE-RADIUS=100;X-TITLE=Steyning Parish Church:geo:0,0
END:VEVENT
BEGIN:VTIMEZONE
TZID:Europe/London
X-LIC-LOCATION:Europe/London
BEGIN:DAYLIGHT
DTSTART:20260329T020000
TZOFFSETFROM:+0000
TZOFFSETTO:+0100
TZNAME:BST
END:DAYLIGHT
END:VTIMEZONE
END:VCALENDAR