BEGIN:VCALENDAR
VERSION:2.0
PRODID:-//wp-events-plugin.com//7.2.3.1//EN
BEGIN:VEVENT
UID:102@steyningfestival.co.uk
DTSTART;TZID=Europe/London:20260530T150000
DTEND;TZID=Europe/London:20260530T180000
DTSTAMP:20260226T175750Z
URL:https://www.steyningfestival.co.uk/events/trees-tour/
SUMMARY:Steyning for Trees - Tea & Tree Tour
DESCRIPTION:A self-guided tour of lovely gardens in and around Steyning whe
 re the owners are devoting themselves to increasing biodiversity.  Sites 
 include hidden gems not normally open to the public.  Come and see what t
 hese dedicated owners are achieving for nature then enjoy a relaxing tea (
 included) in Mouse Cottage's lovely rewilded garden (open until 6pm).\n\nN
 ot suitable for wheelchairs. Map and leaflet provided with ticket (collect
 ed from Steyning Bookshop on the day).\n\nHome | Steyning For Trees\n\n 	I
 NSPIRING\n 	BIODIVERSE\n 	COLLABORATIVE\n\nSponsored by\n\n
ATTACH;FMTTYPE=image/jpeg:https://www.steyningfestival.co.uk/wp-content/up
 loads/2026/02/trees.avif
CATEGORIES:Walks
END:VEVENT
BEGIN:VTIMEZONE
TZID:Europe/London
X-LIC-LOCATION:Europe/London
BEGIN:DAYLIGHT
DTSTART:20260329T020000
TZOFFSETFROM:+0000
TZOFFSETTO:+0100
TZNAME:BST
END:DAYLIGHT
END:VTIMEZONE
END:VCALENDAR